Workbook

Sheet 成绩 (2)
A1: 附件1
A2: 广东省阳春市2026年上半年“粤聚英才・粤见未来”公开引进各类高层次（急需紧缺）人才面试成绩及入围体检名单
A3: 序号 | B3: 报考单位 | C3: 岗位代码 | D3: 岗位需求 | E3: 姓名 | F3: 抽签号 | G3: 成绩 | H3: 排名 | I3: 是否入围体检 | J3: 备注
A4: =ROW(A2)-1 -> 1 | B4: 阳春市河西街道综合事务中心 | C4: 1001 | D4: 1 | E4: 邓*恒 | F4: 01 | G4: 86.44 | H4: 1 | I4: 是
A5: =ROW(A3)-1 -> 2 | B5: 阳春市河西街道综合事务中心 | C5: 1001 | D5: 1 | E5: 叶*鑫 | F5: 02 | G5: 81.84 | H5: 3 | I5: 否
A6: =ROW(A4)-1 -> 3 | B6: 阳春市河西街道综合事务中心 | C6: 1001 | D6: 1 | E6: 林*哲 | F6: 03 | G6: 83.18 | H6: 2 | I6: 否
A7: =ROW(A5)-1 -> 4 | B7: 阳春市八甲镇综合事务中心 | C7: 1002 | D7: 1 | E7: 黄* | F7: 01 | G7: 83.72 | H7: 6 | I7: 否
A8: =ROW(A6)-1 -> 5 | B8: 阳春市八甲镇综合事务中心 | C8: 1002 | D8: 1 | E8: 陈*棠 | F8: 02 | G8: 79.86 | H8: 11 | I8: 否
A9: =ROW(A7)-1 -> 6 | B9: 阳春市八甲镇综合事务中心 | C9: 1002 | D9: 1 | E9: 于*宁 | F9: 03 | G9: 85.9 | H9: 1 | I9: 否 | J9: 弃权
A10: =ROW(A8)-1 -> 7 | B10: 阳春市八甲镇综合事务中心 | C10: 1002 | D10: 1 | E10: 曹*宁 | F10: 04 | G10: 83.26 | H10: 7 | I10: 否
A11: =ROW(A9)-1 -> 8 | B11: 阳春市八甲镇综合事务中心 | C11: 1002 | D11: 1 | E11: 陈*婷 | F11: 05 | G11: 80.66 | H11: 10 | I11: 否
A12: =ROW(A10)-1 -> 9 | B12: 阳春市八甲镇综合事务中心 | C12: 1002 | D12: 1 | E12: 潘*铿 | F12: 06 | G12: 84.48 | H12: 4 | I12: 否
A13: =ROW(A11)-1 -> 10 | B13: 阳春市八甲镇综合事务中心 | C13: 1002 | D13: 1 | E13: 邱*青 | F13: 07 | G13: 81.9 | H13: 8 | I13: 否
A14: =ROW(A12)-1 -> 11 | B14: 阳春市八甲镇综合事务中心 | C14: 1002 | D14: 1 | E14: 岑*明 | F14: 08 | G14: 78.1 | H14: 13 | I14: 否
A15: =ROW(A13)-1 -> 12 | B15: 阳春市八甲镇综合事务中心 | C15: 1002 | D15: 1 | E15: 彭*锋 | F15: 09 | G15: 84.82 | H15: 2 | I15: 是
A16: =ROW(A14)-1 -> 13 | B16: 阳春市八甲镇综合事务中心 | C16: 1002 | D16: 1 | E16: 谢* | F16: 10 | G16: 81.24 | H16: 9 | I16: 否
A17: =ROW(A15)-1 -> 14 | B17: 阳春市八甲镇综合事务中心 | C17: 1002 | D17: 1 | E17: 陈*鹏 | F17: 11 | G17: 84.64 | H17: 3 | I17: 否
A18: =ROW(A16)-1 -> 15 | B18: 阳春市八甲镇综合事务中心 | C18: 1002 | D18: 1 | E18: 周*港 | F18: 12 | G18: 79.84 | H18: 12 | I18: 否
A19: =ROW(A17)-1 -> 16 | B19: 阳春市八甲镇综合事务中心 | C19: 1002 | D19: 1 | E19: 莫*伟 | F19: 13 | G19: 84.16 | H19: 5 | I19: 否
A20: =ROW(A18)-1 -> 17 | B20: 阳春市八甲镇综合事务中心 | C20: 1003 | D20: 1 | E20: 梁* | F20: 01 | G20: 78.34 | H20: 24 | I20: 否
A21: =ROW(A19)-1 -> 18 | B21: 阳春市八甲镇综合事务中心 | C21: 1003 | D21: 1 | E21: 刘*权 | F21: 02 | G21: 84.24 | H21: 8 | I21: 否
... A58: =ROW(A56)-1 -> 55 | B58: 阳春市圭岗镇综合事务中心 | C58: 1004 | D58: 1 | E58: 李*富 | F58: 14 | G58: 72.84 | H58: 14 | I58: 否
A59: =ROW(A57)-1 -> 56 | B59: 阳春市圭岗镇综合事务中心 | C59: 1005 | D59: 1 | E59: 王*宁 | F59: 10 | G59: 78.58 | H59: 18 | I59: 否
A60: =ROW(A58)-1 -> 57 | B60: 阳春市圭岗镇综合事务中心 | C60: 1005 | D60: 1 | E60: 卢*达 | F60: 11 | G60: 80.24 | H60: 11 | I60: 否
A61: =ROW(A59)-1 -> 58 | B61: 阳春市圭岗镇综合事务中心 | C61: 1005 | D61: 1 | E61: 岑*怡 | F61: 12 | G61: 80.58 | H61: 10 | I61: 否
A62: =ROW(A60)-1 -> 59 | B62: 阳春市圭岗镇综合事务中心 | C62: 1005 | D62: 1 | E62: 郭*才 | F62: 13 | G62: 83.94 | H62: 1 | I62: 是
A63: =ROW(A61)-1 -> 60 | B63: 阳春市圭岗镇综合事务中心 | C63: 1005 | D63: 1 | E63: 谢* | F63: 14 | G63: 80.68 | H63: 9 | I63: 否
A64: =ROW(A62)-1 -> 61 | B64: 阳春市圭岗镇综合事务中心 | C64: 1005 | D64: 1 | E64: 周* | F64: 15 | G64: 78.8 | H64: 17 | I64: 否
A65: =ROW(A63)-1 -> 62 | B65: 阳春市圭岗镇综合事务中心 | C65: 1005 | D65: 1 | E65: 雷*玲 | F65: 16 | G65: 81.14 | H65: 5 | I65: 否
A66: =ROW(A64)-1 -> 63 | B66: 阳春市圭岗镇综合事务中心 | C66: 1005 | D66: 1 | E66: 王*晗 | F66: 17 | G66: 79.6 | H66: 14 | I66: 否
A67: =ROW(A65)-1 -> 64 | B67: 阳春市圭岗镇综合事务中心 | C67: 1005 | D67: 1 | E67: 王*敏 | F67: 18 | G67: 83.5 | H67: 2 | I67: 否
A68: =ROW(A66)-1 -> 65 | B68: 阳春市圭岗镇综合事务中心 | C68: 1005 | D68: 1 | E68: 刘* | F68: 01 | G68: 80.16 | H68: 12 | I68: 否
A69: =ROW(A67)-1 -> 66 | B69: 阳春市圭岗镇综合事务中心 | C69: 1005 | D69: 1 | E69: 黄*琪 | F69: 02 | G69: 79.3 | H69: 15 | I69: 否
A70: =ROW(A68)-1 -> 67 | B70: 阳春市圭岗镇综合事务中心 | C70: 1005 | D70: 1 | E70: 阮*埏 | F70: 03 | G70: 79.86 | H70: 13 | I70: 否
A71: =ROW(A69)-1 -> 68 | B71: 阳春市圭岗镇综合事务中心 | C71: 1005 | D71: 1 | E71: 李* | F71: 04 | G71: 81.88 | H71: 4 | I71: 否
A72: =ROW(A70)-1 -> 69 | B72: 阳春市圭岗镇综合事务中心 | C72: 1005 | D72: 1 | E72: 曾*霖 | F72: 05 | G72: 83.34 | H72: 3 | I72: 否
A73: =ROW(A71)-1 -> 70 | B73: 阳春市圭岗镇综合事务中心 | C73: 1005 | D73: 1 | E73: 吴*春 | F73: 06 | G73: 81.1 | H73: 7 | I73: 否
A74: =ROW(A72)-1 -> 71 | B74: 阳春市圭岗镇综合事务中心 | C74: 1005 | D74: 1 | E74: 李*昊 | F74: 07 | G74: 81.12 | H74: 6 | I74: 否
A75: =ROW(A73)-1 -> 72 | B75: 阳春市圭岗镇综合事务中心 | C75: 1005 | D75: 1 | E75: 王*溪 | F75: 08 | G75: 79.22 | H75: 16 | I75: 否
A76: =ROW(A74)-1 -> 73 | B76: 阳春市圭岗镇综合事务中心 | C76: 1005 | D76: 1 | E76: 魏*涔 | F76: 09 | G76: 80.92 | H76: 8 | I76: 否
...
