Workbook

Sheet 成绩 (2)
A1: 附件1
A2: 广东省阳春市2026年上半年“粤聚英才・粤见未来”公开引进各类高层次（急需紧缺）人才面试成绩及入围体检名单
A3: 序号 | B3: 报考单位 | C3: 岗位代码 | D3: 岗位需求 | E3: 姓名 | F3: 抽签号 | G3: 成绩 | H3: 排名 | I3: 是否入围体检 | J3: 备注
A4: =ROW(A2)-1 -> 1 | B4: 阳春市河西街道综合事务中心 | C4: 1001 | D4: 1 | E4: 邓*恒 | F4: 01 | G4: 86.44 | H4: 1 | I4: 是
A5: =ROW(A3)-1 -> 2 | B5: 阳春市河西街道综合事务中心 | C5: 1001 | D5: 1 | E5: 叶*鑫 | F5: 02 | G5: 81.84 | H5: 3 | I5: 否
A6: =ROW(A4)-1 -> 3 | B6: 阳春市河西街道综合事务中心 | C6: 1001 | D6: 1 | E6: 林*哲 | F6: 03 | G6: 83.18 | H6: 2 | I6: 否
A7: =ROW(A5)-1 -> 4 | B7: 阳春市八甲镇综合事务中心 | C7: 1002 | D7: 1 | E7: 黄* | F7: 01 | G7: 83.72 | H7: 6 | I7: 否
A8: =ROW(A6)-1 -> 5 | B8: 阳春市八甲镇综合事务中心 | C8: 1002 | D8: 1 | E8: 陈*棠 | F8: 02 | G8: 79.86 | H8: 11 | I8: 否
A9: =ROW(A7)-1 -> 6 | B9: 阳春市八甲镇综合事务中心 | C9: 1002 | D9: 1 | E9: 于*宁 | F9: 03 | G9: 85.9 | H9: 1 | I9: 否 | J9: 弃权
A10: =ROW(A8)-1 -> 7 | B10: 阳春市八甲镇综合事务中心 | C10: 1002 | D10: 1 | E10: 曹*宁 | F10: 04 | G10: 83.26 | H10: 7 | I10: 否
A11: =ROW(A9)-1 -> 8 | B11: 阳春市八甲镇综合事务中心 | C11: 1002 | D11: 1 | E11: 陈*婷 | F11: 05 | G11: 80.66 | H11: 10 | I11: 否
A12: =ROW(A10)-1 -> 9 | B12: 阳春市八甲镇综合事务中心 | C12: 1002 | D12: 1 | E12: 潘*铿 | F12: 06 | G12: 84.48 | H12: 4 | I12: 否
A13: =ROW(A11)-1 -> 10 | B13: 阳春市八甲镇综合事务中心 | C13: 1002 | D13: 1 | E13: 邱*青 | F13: 07 | G13: 81.9 | H13: 8 | I13: 否
A14: =ROW(A12)-1 -> 11 | B14: 阳春市八甲镇综合事务中心 | C14: 1002 | D14: 1 | E14: 岑*明 | F14: 08 | G14: 78.1 | H14: 13 | I14: 否
A15: =ROW(A13)-1 -> 12 | B15: 阳春市八甲镇综合事务中心 | C15: 1002 | D15: 1 | E15: 彭*锋 | F15: 09 | G15: 84.82 | H15: 2 | I15: 是
A16: =ROW(A14)-1 -> 13 | B16: 阳春市八甲镇综合事务中心 | C16: 1002 | D16: 1 | E16: 谢* | F16: 10 | G16: 81.24 | H16: 9 | I16: 否
A17: =ROW(A15)-1 -> 14 | B17: 阳春市八甲镇综合事务中心 | C17: 1002 | D17: 1 | E17: 陈*鹏 | F17: 11 | G17: 84.64 | H17: 3 | I17: 否
A18: =ROW(A16)-1 -> 15 | B18: 阳春市八甲镇综合事务中心 | C18: 1002 | D18: 1 | E18: 周*港 | F18: 12 | G18: 79.84 | H18: 12 | I18: 否
A19: =ROW(A17)-1 -> 16 | B19: 阳春市八甲镇综合事务中心 | C19: 1002 | D19: 1 | E19: 莫*伟 | F19: 13 | G19: 84.16 | H19: 5 | I19: 否
A20: =ROW(A18)-1 -> 17 | B20: 阳春市八甲镇综合事务中心 | C20: 1003 | D20: 1 | E20: 梁* | F20: 01 | G20: 78.34 | H20: 24 | I20: 否
A21: =ROW(A19)-1 -> 18 | B21: 阳春市八甲镇综合事务中心 | C21: 1003 | D21: 1 | E21: 刘*权 | F21: 02 | G21: 84.24 | H21: 8 | I21: 否
... A58: =ROW(A56)-1 -> 55 | B58: 阳春市圭岗镇综合事务中心 | C58: 1004 | D58: 1 | E58: 李*富 | F58: 14 | G58: 72.84 | H58: 14 | I58: 否
A59: =ROW(A57)-1 -> 56 | B59: 阳春市圭岗镇综合事务中心 | C59: 1005 | D59: 1 | E59: 王*宁 | F59: 10 | G59: 78.58 | H59: 18 | I59: 否
A60: =ROW(A58)-1 -> 57 | B60: 阳春市圭岗镇综合事务中心 | C60: 1005 | D60: 1 | E60: 卢*达 | F60: 11 | G60: 80.24 | H60: 11 | I60: 否
A61: =ROW(A59)-1 -> 58 | B61: 阳春市圭岗镇综合事务中心 | C61: 1005 | D61: 1 | E61: 岑*怡 | F61: 12 | G61: 80.58 | H61: 10 | I61: 否
A62: =ROW(A60)-1 -> 59 | B62: 阳春市圭岗镇综合事务中心 | C62: 1005 | D62: 1 | E62: 郭*才 | F62: 13 | G62: 83.94 | H62: 1 | I62: 是
A63: =ROW(A61)-1 -> 60 | B63: 阳春市圭岗镇综合事务中心 | C63: 1005 | D63: 1 | E63: 谢* | F63: 14 | G63: 80.68 | H63: 9 | I63: 否
A64: =ROW(A62)-1 -> 61 | B64: 阳春市圭岗镇综合事务中心 | C64: 1005 | D64: 1 | E64: 周* | F64: 15 | G64: 78.8 | H64: 17 | I64: 否
A65: =ROW(A63)-1 -> 62 | B65: 阳春市圭岗镇综合事务中心 | C65: 1005 | D65: 1 | E65: 雷*玲 | F65: 16 | G65: 81.14 | H65: 5 | I65: 否
A66: =ROW(A64)-1 -> 63 | B66: 阳春市圭岗镇综合事务中心 | C66: 1005 | D66: 1 | E66: 王*晗 | F66: 17 | G66: 79.6 | H66: 14 | I66: 否
A67: =ROW(A65)-1 -> 64 | B67: 阳春市圭岗镇综合事务中心 | C67: 1005 | D67: 1 | E67: 王*敏 | F67: 18 | G67: 83.5 | H67: 2 | I67: 否
A68: =ROW(A66)-1 -> 65 | B68: 阳春市圭岗镇综合事务中心 | C68: 1005 | D68: 1 | E68: 刘* | F68: 01 | G68: 80.16 | H68: 12 | I68: 否
A69: =ROW(A67)-1 -> 66 | B69: 阳春市圭岗镇综合事务中心 | C69: 1005 | D69: 1 | E69: 黄*琪 | F69: 02 | G69: 79.3 | H69: 15 | I69: 否
A70: =ROW(A68)-1 -> 67 | B70: 阳春市圭岗镇综合事务中心 | C70: 1005 | D70: 1 | E70: 阮*埏 | F70: 03 | G70: 79.86 | H70: 13 | I70: 否
A71: =ROW(A69)-1 -> 68 | B71: 阳春市圭岗镇综合事务中心 | C71: 1005 | D71: 1 | E71: 李* | F71: 04 | G71: 81.88 | H71: 4 | I71: 否
A72: =ROW(A70)-1 -> 69 | B72: 阳春市圭岗镇综合事务中心 | C72: 1005 | D72: 1 | E72: 曾*霖 | F72: 05 | G72: 83.34 | H72: 3 | I72: 否
A73: =ROW(A71)-1 -> 70 | B73: 阳春市圭岗镇综合事务中心 | C73: 1005 | D73: 1 | E73: 吴*春 | F73: 06 | G73: 81.1 | H73: 7 | I73: 否
A74: =ROW(A72)-1 -> 71 | B74: 阳春市圭岗镇综合事务中心 | C74: 1005 | D74: 1 | E74: 李*昊 | F74: 07 | G74: 81.12 | H74: 6 | I74: 否
A75: =ROW(A73)-1 -> 72 | B75: 阳春市圭岗镇综合事务中心 | C75: 1005 | D75: 1 | E75: 王*溪 | F75: 08 | G75: 79.22 | H75: 16 | I75: 否
A76: =ROW(A74)-1 -> 73 | B76: 阳春市圭岗镇综合事务中心 | C76: 1005 | D76: 1 | E76: 魏*涔 | F76: 09 | G76: 80.92 | H76: 8 | I76: 否
A77: =ROW(A75)-1 -> 74 | B77: 阳春市合水镇综合事务中心 | C77: 1006 | D77: 1 | E77: 杨* | F77: 01 | G77: 78.68 | H77: 17 | I77: 否
A78: =ROW(A76)-1 -> 75 | B78: 阳春市合水镇综合事务中心 | C78: 1006 | D78: 1 | E78: 蔡*东 | F78: 02 | G78: 73.9 | H78: 22 | I78: 否
A79: =ROW(A77)-1 -> 76 | B79: 阳春市合水镇综合事务中心 | C79: 1006 | D79: 1 | E79: 周*乐 | F79: 03 | G79: 84.06 | H79: 1 | I79: 是
... A100: =ROW(A98)-1 -> 97 | B100: 阳春市合水镇综合事务中心 | C100: 1006 | D100: 1 | E100: 罗*燕 | F100: 24 | G100: 76.52 | H100: 19 | I100: 否
A101: =ROW(A99)-1 -> 98 | B101: 阳春市三甲镇综合事务中心 | C101: 1007 | D101: 1 | E101: 崔*枝 | F101: 10 | G101: 86.64 | H101: 3 | I101: 否
A102: =ROW(A100)-1 -> 99 | B102: 阳春市三甲镇综合事务中心 | C102: 1007 | D102: 1 | E102: 岳*福 | F102: 11 | G102: 68.94 | H102: 13 | I102: 否
A103: =ROW(A101)-1 -> 100 | B103: 阳春市三甲镇综合事务中心 | C103: 1007 | D103: 1 | E103: 张*键 | F103: 12 | G103: 88.4 | H103: 1 | I103: 是
A104: =ROW(A102)-1 -> 101 | B104: 阳春市三甲镇综合事务中心 | C104: 1007 | D104: 1 | E104: 李*涵 | F104: 13 | G104: 85.5 | H104: 4 | I104: 否
A105: =ROW(A103)-1 -> 102 | B105: 阳春市三甲镇综合事务中心 | C105: 1007 | D105: 1 | E105: 樊*博 | F105: 14 | G105: 84.2 | H105: 6 | I105: 否
A106: =ROW(A104)-1 -> 103 | B106: 阳春市三甲镇综合事务中心 | C106: 1007 | D106: 1 | E106: 罗*智 | F106: 01 | G106: 82.52 | H106: 9 | I106: 否
A107: =ROW(A105)-1 -> 104 | B107: 阳春市三甲镇综合事务中心 | C107: 1007 | D107: 1 | E107: 官*杰 | F107: 02 | G107: 78.92 | H107: 12 | I107: 否
A108: =ROW(A106)-1 -> 105 | B108: 阳春市三甲镇综合事务中心 | C108: 1007 | D108: 1 | E108: 朱*敏 | F108: 03 | G108: 87.96 | H108: 2 | I108: 否
A109: =ROW(A107)-1 -> 106 | B109: 阳春市三甲镇综合事务中心 | C109: 1007 | D109: 1 | E109: 涂*芳 | F109: 04 | G109: 68.7 | H109: 14 | I109: 否
A110: =ROW(A108)-1 -> 107 | B110: 阳春市三甲镇综合事务中心 | C110: 1007 | D110: 1 | E110: 李* | F110: 05 | G110: 81.32 | H110: 10 | I110: 否
A111: =ROW(A109)-1 -> 108 | B111: 阳春市三甲镇综合事务中心 | C111: 1007 | D111: 1 | E111: 郑*彬 | F111: 06 | G111: 84 | H111: 7 | I111: 否
A112: =ROW(A110)-1 -> 109 | B112: 阳春市三甲镇综合事务中心 | C112: 1007 | D112: 1 | E112: 刘*谷 | F112: 07 | G112: 84.36 | H112: 5 | I112: 否
A113: =ROW(A111)-1 -> 110 | B113: 阳春市三甲镇综合事务中心 | C113: 1007 | D113: 1 | E113: 蔡*爵 | F113: 08 | G113: 81.18 | H113: 11 | I113: 否
A114: =ROW(A112)-1 -> 111 | B114: 阳春市三甲镇综合事务中心 | C114: 1007 | D114: 1 | E114: 宋*婷 | F114: 09 | G114: 83.62 | H114: 8 | I114: 否
A115: =ROW(A113)-1 -> 112 | B115: 阳春市三甲镇综合事务中心 | C115: 1008 | D115: 1 | E115: 韦*环 | F115: 01 | G115: 79.26 | H115: 3 | I115: 否
A116: =ROW(A114)-1 -> 113 | B116: 阳春市三甲镇综合事务中心 | C116: 1008 | D116: 1 | E116: 王* | F116: 02 | G116: 78.52 | H116: 4 | I116: 否
A117: =ROW(A115)-1 -> 114 | B117: 阳春市三甲镇综合事务中心 | C117: 1008 | D117: 1 | E117: 张*榕 | F117: 03 | G117: 85.76 | H117: 1 | I117: 是
... A145: =ROW(A143)-1 -> 142 | B145: 阳春市陂面镇综合事务中心 | C145: 1012 | D145: 1 | E145: 陈* | F145: 15 | G145: 82.56 | H145: 6 | I145: 否
A146: =ROW(A144)-1 -> 143 | B146: 阳春市春湾镇综合事务中心 | C146: 1013 | D146: 1 | E146: 陈*朗 | F146: 15 | G146: 83.52 | H146: 8 | I146: 否
A147: =ROW(A145)-1 -> 144 | B147: 阳春市春湾镇综合事务中心 | C147: 1013 | D147: 1 | E147: 赖*华 | F147: 01 | G147: 80.94 | H147: 16 | I147: 否
A148: =ROW(A146)-1 -> 145 | B148: 阳春市春湾镇综合事务中心 | C148: 1013 | D148: 1 | E148: 吴*贵 | F148: 02 | G148: 86.1 | H148: 2 | I148: 否
A149: =ROW(A147)-1 -> 146 | B149: 阳春市春湾镇综合事务中心 | C149: 1013 | D149: 1 | E149: 黄*阳 | F149: 03 | G149: 84.3 | H149: 4 | I149: 否
A150: =ROW(A148)-1 -> 147 | B150: 阳春市春湾镇综合事务中心 | C150: 1013 | D150: 1 | E150: 曹*缨 | F150: 04 | G150: 82.22 | H150: 13 | I150: 否
A151: =ROW(A149)-1 -> 148 | B151: 阳春市春湾镇综合事务中心 | C151: 1013 | D151: 1 | E151: 温*彬 | F151: 05 | G151: 80.38 | H151: 18 | I151: 否
A152: =ROW(A150)-1 -> 149 | B152: 阳春市春湾镇综合事务中心 | C152: 1013 | D152: 1 | E152: 余* | F152: 06 | G152: 81.66 | H152: 15 | I152: 否
A153: =ROW(A151)-1 -> 150 | B153: 阳春市春湾镇综合事务中心 | C153: 1013 | D153: 1 | E153: 李*昆 | F153: 07 | G153: 79.02 | H153: 20 | I153: 否
A154: =ROW(A152)-1 -> 151 | B154: 阳春市春湾镇综合事务中心 | C154: 1013 | D154: 1 | E154: 杨*萍 | F154: 08 | G154: 84.62 | H154: 3 | I154: 否
A155: =ROW(A153)-1 -> 152 | B155: 阳春市春湾镇综合事务中心 | C155: 1013 | D155: 1 | E155: 林*雯 | F155: 09 | G155: 84.26 | H155: 5 | I155: 否
A156: =ROW(A154)-1 -> 153 | B156: 阳春市春湾镇综合事务中心 | C156: 1013 | D156: 1 | E156: 李*雄 | F156: 10 | G156: 83.58 | H156: 7 | I156: 否
A157: =ROW(A155)-1 -> 154 | B157: 阳春市春湾镇综合事务中心 | C157: 1013 | D157: 1 | E157: 陈*贤 | F157: 11 | G157: 82.56 | H157: 12 | I157: 否
A158: =ROW(A156)-1 -> 155 | B158: 阳春市春湾镇综合事务中心 | C158: 1013 | D158: 1 | E158: 莫*芳 | F158: 12 | G158: 83.58 | H158: 6 | I158: 否
... A254: =ROW(A252)-1 -> 251 | B254: 阳春市交通运输局地方公路管理站 | C254: 1024 | D254: 2 | E254: 冯*豪 | F254: 04 | G254: 83.76 | H254: 1 | I254: 是
A255: =ROW(A253)-1 -> 252 | B255: 阳春市交通运输局地方公路管理站 | C255: 1024 | D255: 2 | E255: 陈*泉 | F255: 05 | G255: 82.32 | H255: 2 | I255: 否 | J255: 弃权
A256: =ROW(A254)-1 -> 253 | B256: 阳春市交通运输局地方公路管理站 | C256: 1024 | D256: 2 | E256: 祝*伟 | F256: 06 | G256: 81.26 | H256: 6 | I256: 否
A257: =ROW(A255)-1 -> 254 | B257: 阳春市交通运输局地方公路管理站 | C257: 1024 | D257: 2 | E257: 叶*琦 | F257: 07 | G257: 81.52 | H257: 3 | I257: 是
A258: =ROW(A256)-1 -> 255 | B258: 阳春市交通运输局地方公路管理站 | C258: 1024 | D258: 2 | E258: 俞*浩 | F258: 08 | G258: 80.48 | H258: 7 | I258: 否
A259: =ROW(A257)-1 -> 256 | B259: 阳春市交通运输局地方公路管理站 | C259: 1024 | D259: 2 | E259: 高* | F259: 09 | G259: 80.16 | H259: 8 | I259: 否
A260: =ROW(A258)-1 -> 257 | B260: 阳春市交通运输局地方公路管理站 | C260: 1024 | D260: 2 | E260: 邹* | F260: 10 | G260: 80.16 | H260: 9 | I260: 否
A261: =ROW(A259)-1 -> 258 | B261: 阳春市交通运输局地方公路管理站 | C261: 1024 | D261: 2 | E261: 肖* | F261: 11 | G261: 81.3 | H261: 5 | I261: 否
A262: =ROW(A260)-1 -> 259 | B262: 阳春市人民医院 | C262: 1025 | D262: 2 | E262: 赵*辰 | F262: 01 | G262: 85.06 | H262: 1 | I262: 是
A263: =ROW(A261)-1 -> 260 | B263: 阳春市人民医院 | C263: 1026 | D263: 1 | E263: 黄*萍 | F263: 01 | G263: 84.64 | H263: 1 | I263: 是
A264: =ROW(A262)-1 -> 261 | B264: 阳春市人民医院 | C264: 1026 | D264: 1 | E264: 张*伟 | F264: 02 | G264: 80.84 | H264: 2 | I264: 否
A265: =ROW(A263)-1 -> 262 | B265: 阳春市人民医院 | C265: 1027 | D265: 1 | E265: 陈*云 | F265: 01 | G265: 77.82 | H265: 1 | I265: 否
A266: =ROW(A264)-1 -> 263 | B266: 阳春市人民医院 | C266: 1029 | D266: 1 | E266: 林*洋 | F266: 01 | G266: 83.44 | H266: 1 | I266: 是
A267: =ROW(A265)-1 -> 264 | B267: 阳春市人民医院 | C267: 1032 | D267: 1 | E267: 刘*富 | F267: 01 | G267: 78.96 | H267: 1 | I267: 否
... A278: =ROW(A276)-1 -> 275 | B278: 阳春市疾病预防控制中心 | C278: 1041 | D278: 1 | E278: 廖* | F278: 04 | G278: 83.86 | H278: 5 | I278: 是
A279: =ROW(A277)-1 -> 276 | B279: 阳春市疾病预防控制中心 | C279: 1041 | D279: 1 | E279: 李*伟 | F279: 05 | G279: 84.64 | H279: 3 | I279: 否 | J279: 弃权
A280: =ROW(A278)-1 -> 277 | B280: 阳春市疾病预防控制中心 | C280: 1041 | D280: 1 | E280: 赵*慧 | F280: 06 | G280: 84.2 | H280: 4 | I280: 否 | J280: 弃权
A281: =ROW(A279)-1 -> 278 | B281: 阳春市疾病预防控制中心 | C281: 1041 | D281: 1 | E281: 陈*劲 | F281: 07 | G281: 76.3 | H281: 14 | I281: 否
A282: =ROW(A280)-1 -> 279 | B282: 阳春市疾病预防控制中心 | C282: 1041 | D282: 1 | E282: 张*苗 | F282: 08 | G282: 87.06 | H282: 1 | I282: 否 | J282: 弃权
A283: =ROW(A281)-1 -> 280 | B283: 阳春市疾病预防控制中心 | C283: 1041 | D283: 1 | E283: 练*珊 | F283: 09 | G283: 85.68 | H283: 2 | I283: 否 | J283: 弃权
A284: =ROW(A282)-1 -> 281 | B284: 阳春市疾病预防控制中心 | C284: 1041 | D284: 1 | E284: 蔡*婷 | F284: 10 | G284: 73.72 | H284: 16 | I284: 否
A285: =ROW(A283)-1 -> 282 | B285: 阳春市疾病预防控制中心 | C285: 1041 | D285: 1 | E285: 龚*花 | F285: 11 | G285: 76.22 | H285: 15 | I285: 否
A286: =ROW(A284)-1 -> 283 | B286: 阳春市疾病预防控制中心 | C286: 1041 | D286: 1 | E286: 郑*谕 | F286: 12 | G286: 81.42 | H286: 10 | I286: 否
A287: =ROW(A285)-1 -> 284 | B287: 阳春市疾病预防控制中心 | C287: 1041 | D287: 1 | E287: 刘* | F287: 13 | G287: 83.4 | H287: 8 | I287: 否
A288: =ROW(A286)-1 -> 285 | B288: 阳春市疾病预防控制中心 | C288: 1041 | D288: 1 | E288: 张*滨 | F288: 14 | G288: 82.34 | H288: 9 | I288: 否
...
